BEGIN:VCALENDAR
PRODID:-//eluceo/ical//2.0/EN
VERSION:2.0
CALSCALE:GREGORIAN
BEGIN:VEVENT
UID:a77400b505dcdef6ecde19c7433e131a
DTSTAMP:20260423T020750Z
SUMMARY:Slepice
DTSTART;TZID=Europe/Prague:20260515T150000
DTEND;TZID=Europe/Prague:20260515T163600
LOCATION:Kino Aero
END:VEVENT
END:VCALENDAR
BEGIN:VCALENDAR
PRODID:-//eluceo/ical//2.0/EN
VERSION:2.0
CALSCALE:GREGORIAN
BEGIN:VEVENT
UID:d73e683c9162affa00e8aa2b2a3aa6cf
DTSTAMP:20260423T020750Z
SUMMARY:Slepice
DTSTART;TZID=Europe/Prague:20260515T150000
DTEND;TZID=Europe/Prague:20260515T163600
LOCATION:Kino Aero
END:VEVENT
END:VCALENDAR
