BEGIN:VCALENDAR
PRODID:-//eluceo/ical//2.0/EN
VERSION:2.0
CALSCALE:GREGORIAN
BEGIN:VEVENT
UID:023a39c32bf4917e7ced8177656cc9e0
DTSTAMP:20260420T103309Z
SUMMARY:Drama
DTSTART;TZID=Europe/Prague:20260519T150000
DTEND;TZID=Europe/Prague:20260519T164600
LOCATION:Kino Aero
END:VEVENT
END:VCALENDAR
BEGIN:VCALENDAR
PRODID:-//eluceo/ical//2.0/EN
VERSION:2.0
CALSCALE:GREGORIAN
BEGIN:VEVENT
UID:a57a93d6f5f67930b6ca98ea934fe9ae
DTSTAMP:20260420T103309Z
SUMMARY:Drama
DTSTART;TZID=Europe/Prague:20260519T150000
DTEND;TZID=Europe/Prague:20260519T164600
LOCATION:Kino Aero
END:VEVENT
END:VCALENDAR
