BEGIN:VCALENDAR
PRODID:-//eluceo/ical//2.0/EN
VERSION:2.0
CALSCALE:GREGORIAN
BEGIN:VEVENT
UID:7d881b8b73364bbe2b8f664710b98469
DTSTAMP:20260423T184428Z
SUMMARY:Ďábel nosí Pradu 2
DTSTART;TZID=Europe/Prague:20260502T150000
DTEND;TZID=Europe/Prague:20260502T170000
LOCATION:Kino Lucerna
END:VEVENT
END:VCALENDAR
BEGIN:VCALENDAR
PRODID:-//eluceo/ical//2.0/EN
VERSION:2.0
CALSCALE:GREGORIAN
BEGIN:VEVENT
UID:2753ee715582521220f052821a6649ae
DTSTAMP:20260423T184428Z
SUMMARY:Ďábel nosí Pradu 2
DTSTART;TZID=Europe/Prague:20260502T150000
DTEND;TZID=Europe/Prague:20260502T170000
LOCATION:Kino Lucerna
END:VEVENT
END:VCALENDAR
