BEGIN:VCALENDAR
PRODID:-//eluceo/ical//2.0/EN
VERSION:2.0
CALSCALE:GREGORIAN
BEGIN:VEVENT
UID:9a3a7e3c3457b9704f150b2e51b3bdc4
DTSTAMP:20260423T184556Z
SUMMARY:Ďábel nosí Pradu 2
DTSTART;TZID=Europe/Prague:20260503T150000
DTEND;TZID=Europe/Prague:20260503T170000
LOCATION:Kino Lucerna
END:VEVENT
END:VCALENDAR
BEGIN:VCALENDAR
PRODID:-//eluceo/ical//2.0/EN
VERSION:2.0
CALSCALE:GREGORIAN
BEGIN:VEVENT
UID:bafe3bc25d6702eac9b4290d349cc4fe
DTSTAMP:20260423T184556Z
SUMMARY:Ďábel nosí Pradu 2
DTSTART;TZID=Europe/Prague:20260503T150000
DTEND;TZID=Europe/Prague:20260503T170000
LOCATION:Kino Lucerna
END:VEVENT
END:VCALENDAR
