BEGIN:VCALENDAR
PRODID:-//eluceo/ical//2.0/EN
VERSION:2.0
CALSCALE:GREGORIAN
BEGIN:VEVENT
UID:d0d5ae24e77c6e120762c830cff66c63
DTSTAMP:20260423T021521Z
SUMMARY:Slepice
DTSTART;TZID=Europe/Prague:20260424T180000
DTEND;TZID=Europe/Prague:20260424T193600
LOCATION:Bio Central
END:VEVENT
END:VCALENDAR
BEGIN:VCALENDAR
PRODID:-//eluceo/ical//2.0/EN
VERSION:2.0
CALSCALE:GREGORIAN
BEGIN:VEVENT
UID:cef3e2ffd3c0fee06228563fe0902817
DTSTAMP:20260423T021521Z
SUMMARY:Slepice
DTSTART;TZID=Europe/Prague:20260424T180000
DTEND;TZID=Europe/Prague:20260424T193600
LOCATION:Bio Central
END:VEVENT
END:VCALENDAR
