BEGIN:VCALENDAR
PRODID:-//eluceo/ical//2.0/EN
VERSION:2.0
CALSCALE:GREGORIAN
BEGIN:VEVENT
UID:c3999d491bf348d0b9f92602bdec088c
DTSTAMP:20260423T021443Z
SUMMARY:Slepice
DTSTART;TZID=Europe/Prague:20260426T180000
DTEND;TZID=Europe/Prague:20260426T193600
LOCATION:Bio Central
END:VEVENT
END:VCALENDAR
BEGIN:VCALENDAR
PRODID:-//eluceo/ical//2.0/EN
VERSION:2.0
CALSCALE:GREGORIAN
BEGIN:VEVENT
UID:6a3220c6c79428ec636a5f6da2c18547
DTSTAMP:20260423T021443Z
SUMMARY:Slepice
DTSTART;TZID=Europe/Prague:20260426T180000
DTEND;TZID=Europe/Prague:20260426T193600
LOCATION:Bio Central
END:VEVENT
END:VCALENDAR
