BEGIN:VCALENDAR
PRODID:-//eluceo/ical//2.0/EN
VERSION:2.0
CALSCALE:GREGORIAN
BEGIN:VEVENT
UID:c016fb860575a16d66e2d7fa8c6e675a
DTSTAMP:20260421T100640Z
SUMMARY:Ladislav Zibura – S mámou a tátou do Afriky
DTSTART;TZID=Europe/Prague:20260525T201500
DTEND;TZID=Europe/Prague:20260525T221500
LOCATION:Bio Oko
END:VEVENT
END:VCALENDAR
BEGIN:VCALENDAR
PRODID:-//eluceo/ical//2.0/EN
VERSION:2.0
CALSCALE:GREGORIAN
BEGIN:VEVENT
UID:eb887151d9b309f9aef5ee0028554b4a
DTSTAMP:20260421T100640Z
SUMMARY:Ladislav Zibura – S mámou a tátou do Afriky
DTSTART;TZID=Europe/Prague:20260525T201500
DTEND;TZID=Europe/Prague:20260525T221500
LOCATION:Bio Oko
END:VEVENT
END:VCALENDAR
