BEGIN:VCALENDAR
PRODID:-//eluceo/ical//2.0/EN
VERSION:2.0
CALSCALE:GREGORIAN
BEGIN:VEVENT
UID:b80ef3a10835db25e87b1d3c8b0a86f3
DTSTAMP:20260423T021147Z
SUMMARY:Slepice
DTSTART;TZID=Europe/Prague:20260501T124500
DTEND;TZID=Europe/Prague:20260501T142100
LOCATION:Bio Oko
END:VEVENT
END:VCALENDAR
BEGIN:VCALENDAR
PRODID:-//eluceo/ical//2.0/EN
VERSION:2.0
CALSCALE:GREGORIAN
BEGIN:VEVENT
UID:53fb8d2ae60f78d7c31bb2d15fc5d281
DTSTAMP:20260423T021147Z
SUMMARY:Slepice
DTSTART;TZID=Europe/Prague:20260501T124500
DTEND;TZID=Europe/Prague:20260501T142100
LOCATION:Bio Oko
END:VEVENT
END:VCALENDAR
