BEGIN:VCALENDAR
PRODID:-//eluceo/ical//2.0/EN
VERSION:2.0
CALSCALE:GREGORIAN
BEGIN:VEVENT
UID:253423228a7dd94a988a03ccb4b2ba00
DTSTAMP:20260423T185239Z
SUMMARY:Ďábel nosí Pradu 2
DTSTART;TZID=Europe/Prague:20260505T203000
DTEND;TZID=Europe/Prague:20260505T223000
LOCATION:Kino Přítomnost
END:VEVENT
END:VCALENDAR
BEGIN:VCALENDAR
PRODID:-//eluceo/ical//2.0/EN
VERSION:2.0
CALSCALE:GREGORIAN
BEGIN:VEVENT
UID:e88385f9188f221c5c693a3fac55b14e
DTSTAMP:20260423T185239Z
SUMMARY:Ďábel nosí Pradu 2
DTSTART;TZID=Europe/Prague:20260505T203000
DTEND;TZID=Europe/Prague:20260505T223000
LOCATION:Kino Přítomnost
END:VEVENT
END:VCALENDAR
