BEGIN:VCALENDAR
PRODID:-//eluceo/ical//2.0/EN
VERSION:2.0
CALSCALE:GREGORIAN
BEGIN:VEVENT
UID:ab73fffceb0201ef93490394ca17f589
DTSTAMP:20260423T185058Z
SUMMARY:Ďábel nosí Pradu 2
DTSTART;TZID=Europe/Prague:20260506T171500
DTEND;TZID=Europe/Prague:20260506T191500
LOCATION:Kino Přítomnost
END:VEVENT
END:VCALENDAR
BEGIN:VCALENDAR
PRODID:-//eluceo/ical//2.0/EN
VERSION:2.0
CALSCALE:GREGORIAN
BEGIN:VEVENT
UID:01cf5f027e5d6e40faff36e45b8f9b36
DTSTAMP:20260423T185058Z
SUMMARY:Ďábel nosí Pradu 2
DTSTART;TZID=Europe/Prague:20260506T171500
DTEND;TZID=Europe/Prague:20260506T191500
LOCATION:Kino Přítomnost
END:VEVENT
END:VCALENDAR
