BEGIN:VCALENDAR
PRODID:-//eluceo/ical//2.0/EN
VERSION:2.0
CALSCALE:GREGORIAN
BEGIN:VEVENT
UID:31bdff7b76844a406768031c68c7e647
DTSTAMP:20260423T021028Z
SUMMARY:Slepice
DTSTART;TZID=Europe/Prague:20260503T200000
DTEND;TZID=Europe/Prague:20260503T213600
LOCATION:Univerzitní kino Scala
END:VEVENT
END:VCALENDAR
BEGIN:VCALENDAR
PRODID:-//eluceo/ical//2.0/EN
VERSION:2.0
CALSCALE:GREGORIAN
BEGIN:VEVENT
UID:d61b454f0856f55f6822543ba7f25f32
DTSTAMP:20260423T021028Z
SUMMARY:Slepice
DTSTART;TZID=Europe/Prague:20260503T200000
DTEND;TZID=Europe/Prague:20260503T213600
LOCATION:Univerzitní kino Scala
END:VEVENT
END:VCALENDAR
