BEGIN:VCALENDAR
PRODID:-//eluceo/ical//2.0/EN
VERSION:2.0
CALSCALE:GREGORIAN
BEGIN:VEVENT
UID:db6b8dfb5023556977f2a62712ac4c80
DTSTAMP:20260423T021119Z
SUMMARY:Slepice
DTSTART;TZID=Europe/Prague:20260430T174500
DTEND;TZID=Europe/Prague:20260430T192100
LOCATION:Univerzitní kino Scala
END:VEVENT
END:VCALENDAR
BEGIN:VCALENDAR
PRODID:-//eluceo/ical//2.0/EN
VERSION:2.0
CALSCALE:GREGORIAN
BEGIN:VEVENT
UID:e944662d51a31aa46194cf9f90dafceb
DTSTAMP:20260423T021119Z
SUMMARY:Slepice
DTSTART;TZID=Europe/Prague:20260430T174500
DTEND;TZID=Europe/Prague:20260430T192100
LOCATION:Univerzitní kino Scala
END:VEVENT
END:VCALENDAR
