BEGIN:VCALENDAR
PRODID:-//eluceo/ical//2.0/EN
VERSION:2.0
CALSCALE:GREGORIAN
BEGIN:VEVENT
UID:b55d0fe54af288443efb11aab11850a4
DTSTAMP:20260423T021136Z
SUMMARY:Slepice
DTSTART;TZID=Europe/Prague:20260506T174500
DTEND;TZID=Europe/Prague:20260506T192100
LOCATION:Univerzitní kino Scala
END:VEVENT
END:VCALENDAR
BEGIN:VCALENDAR
PRODID:-//eluceo/ical//2.0/EN
VERSION:2.0
CALSCALE:GREGORIAN
BEGIN:VEVENT
UID:6d3c1d3c5c1deb146f12071638dfe41f
DTSTAMP:20260423T021136Z
SUMMARY:Slepice
DTSTART;TZID=Europe/Prague:20260506T174500
DTEND;TZID=Europe/Prague:20260506T192100
LOCATION:Univerzitní kino Scala
END:VEVENT
END:VCALENDAR
