BEGIN:VCALENDAR
PRODID:-//eluceo/ical//2.0/EN
VERSION:2.0
CALSCALE:GREGORIAN
BEGIN:VEVENT
UID:3dc1e6dde7b99b1356752c5b8941b6ea
DTSTAMP:20260423T021049Z
SUMMARY:Slepice
DTSTART;TZID=Europe/Prague:20260511T174500
DTEND;TZID=Europe/Prague:20260511T192100
LOCATION:Univerzitní kino Scala
END:VEVENT
END:VCALENDAR
BEGIN:VCALENDAR
PRODID:-//eluceo/ical//2.0/EN
VERSION:2.0
CALSCALE:GREGORIAN
BEGIN:VEVENT
UID:d86a826cebecb916ae3fab788ae03255
DTSTAMP:20260423T021049Z
SUMMARY:Slepice
DTSTART;TZID=Europe/Prague:20260511T174500
DTEND;TZID=Europe/Prague:20260511T192100
LOCATION:Univerzitní kino Scala
END:VEVENT
END:VCALENDAR
