BEGIN:VCALENDAR
PRODID:-//eluceo/ical//2.0/EN
VERSION:2.0
CALSCALE:GREGORIAN
BEGIN:VEVENT
UID:6a397046b8a5c5d402c7cac3ae0ec630
DTSTAMP:20260423T184557Z
SUMMARY:Ďábel nosí Pradu 2
DTSTART;TZID=Europe/Prague:20260501T150000
DTEND;TZID=Europe/Prague:20260501T170000
LOCATION:Univerzitní kino Scala
END:VEVENT
END:VCALENDAR
BEGIN:VCALENDAR
PRODID:-//eluceo/ical//2.0/EN
VERSION:2.0
CALSCALE:GREGORIAN
BEGIN:VEVENT
UID:78a16210aef8a0052aa2211f6ca8dc37
DTSTAMP:20260423T184557Z
SUMMARY:Ďábel nosí Pradu 2
DTSTART;TZID=Europe/Prague:20260501T150000
DTEND;TZID=Europe/Prague:20260501T170000
LOCATION:Univerzitní kino Scala
END:VEVENT
END:VCALENDAR
