BEGIN:VCALENDAR
PRODID:-//eluceo/ical//2.0/EN
VERSION:2.0
CALSCALE:GREGORIAN
BEGIN:VEVENT
UID:077a69b2ecdceb3b3a0923d1e9c6d454
DTSTAMP:20260423T161735Z
SUMMARY:Kill Bill: The Whole Bloody Affair
DTSTART;TZID=Europe/Prague:20260508T190000
DTEND;TZID=Europe/Prague:20260508T233500
LOCATION:Bio Central
END:VEVENT
END:VCALENDAR
BEGIN:VCALENDAR
PRODID:-//eluceo/ical//2.0/EN
VERSION:2.0
CALSCALE:GREGORIAN
BEGIN:VEVENT
UID:c7ee92f7f32bd73664a23a261070bd08
DTSTAMP:20260423T161735Z
SUMMARY:Kill Bill: The Whole Bloody Affair
DTSTART;TZID=Europe/Prague:20260508T190000
DTEND;TZID=Europe/Prague:20260508T233500
LOCATION:Bio Central
END:VEVENT
END:VCALENDAR
