BEGIN:VCALENDAR
PRODID:-//eluceo/ical//2.0/EN
VERSION:2.0
CALSCALE:GREGORIAN
BEGIN:VEVENT
UID:b5573658d3b6cc323f3084537770bba3
DTSTAMP:20260423T021244Z
SUMMARY:Slepice
DTSTART;TZID=Europe/Prague:20260502T180000
DTEND;TZID=Europe/Prague:20260502T193600
LOCATION:Kino Lucerna
END:VEVENT
END:VCALENDAR
BEGIN:VCALENDAR
PRODID:-//eluceo/ical//2.0/EN
VERSION:2.0
CALSCALE:GREGORIAN
BEGIN:VEVENT
UID:4f18a722564047ebe9490b37bf98e501
DTSTAMP:20260423T021244Z
SUMMARY:Slepice
DTSTART;TZID=Europe/Prague:20260502T180000
DTEND;TZID=Europe/Prague:20260502T193600
LOCATION:Kino Lucerna
END:VEVENT
END:VCALENDAR
