BEGIN:VCALENDAR
PRODID:-//eluceo/ical//2.0/EN
VERSION:2.0
CALSCALE:GREGORIAN
BEGIN:VEVENT
UID:3c1e944fe96723956a12348325954727
DTSTAMP:20260423T020749Z
SUMMARY:Slepice
DTSTART;TZID=Europe/Prague:20260505T153000
DTEND;TZID=Europe/Prague:20260505T170600
LOCATION:Kino Lucerna
END:VEVENT
END:VCALENDAR
BEGIN:VCALENDAR
PRODID:-//eluceo/ical//2.0/EN
VERSION:2.0
CALSCALE:GREGORIAN
BEGIN:VEVENT
UID:13325373c97c2dea4a13efa84b49bcec
DTSTAMP:20260423T020749Z
SUMMARY:Slepice
DTSTART;TZID=Europe/Prague:20260505T153000
DTEND;TZID=Europe/Prague:20260505T170600
LOCATION:Kino Lucerna
END:VEVENT
END:VCALENDAR
