BEGIN:VCALENDAR
PRODID:-//eluceo/ical//2.0/EN
VERSION:2.0
CALSCALE:GREGORIAN
BEGIN:VEVENT
UID:faf0d49d25572544cd9d25e41fdf2c9f
DTSTAMP:20260423T185005Z
SUMMARY:Ďábel nosí Pradu 2
DTSTART;TZID=Europe/Prague:20260506T180000
DTEND;TZID=Europe/Prague:20260506T200000
LOCATION:Bio Central
END:VEVENT
END:VCALENDAR
BEGIN:VCALENDAR
PRODID:-//eluceo/ical//2.0/EN
VERSION:2.0
CALSCALE:GREGORIAN
BEGIN:VEVENT
UID:609dd1df043827ed3b8fdb680db464e0
DTSTAMP:20260423T185005Z
SUMMARY:Ďábel nosí Pradu 2
DTSTART;TZID=Europe/Prague:20260506T180000
DTEND;TZID=Europe/Prague:20260506T200000
LOCATION:Bio Central
END:VEVENT
END:VCALENDAR
