BEGIN:VCALENDAR
PRODID:-//eluceo/ical//2.0/EN
VERSION:2.0
CALSCALE:GREGORIAN
BEGIN:VEVENT
UID:934c3d4c238d7af3797a928de1059382
DTSTAMP:20260423T184816Z
SUMMARY:Ďábel nosí Pradu 2
DTSTART;TZID=Europe/Prague:20260506T150000
DTEND;TZID=Europe/Prague:20260506T170000
LOCATION:Kino Světozor
END:VEVENT
END:VCALENDAR
BEGIN:VCALENDAR
PRODID:-//eluceo/ical//2.0/EN
VERSION:2.0
CALSCALE:GREGORIAN
BEGIN:VEVENT
UID:e0581d87c359ee6ee3596e2c0110efd9
DTSTAMP:20260423T184816Z
SUMMARY:Ďábel nosí Pradu 2
DTSTART;TZID=Europe/Prague:20260506T150000
DTEND;TZID=Europe/Prague:20260506T170000
LOCATION:Kino Světozor
END:VEVENT
END:VCALENDAR
