BEGIN:VCALENDAR
PRODID:-//eluceo/ical//2.0/EN
VERSION:2.0
CALSCALE:GREGORIAN
BEGIN:VEVENT
UID:050b8720d6dcedfe5036e8fe3f805daf
DTSTAMP:20260423T185052Z
SUMMARY:Ďábel nosí Pradu 2
DTSTART;TZID=Europe/Prague:20260504T151500
DTEND;TZID=Europe/Prague:20260504T171500
LOCATION:Kino Světozor
END:VEVENT
END:VCALENDAR
BEGIN:VCALENDAR
PRODID:-//eluceo/ical//2.0/EN
VERSION:2.0
CALSCALE:GREGORIAN
BEGIN:VEVENT
UID:1768f4088e90b967b33d9b97845efa58
DTSTAMP:20260423T185052Z
SUMMARY:Ďábel nosí Pradu 2
DTSTART;TZID=Europe/Prague:20260504T151500
DTEND;TZID=Europe/Prague:20260504T171500
LOCATION:Kino Světozor
END:VEVENT
END:VCALENDAR
