BEGIN:VCALENDAR
PRODID:-//eluceo/ical//2.0/EN
VERSION:2.0
CALSCALE:GREGORIAN
BEGIN:VEVENT
UID:b2ad100e8c1716cdf3963f75f6acd33f
DTSTAMP:20260423T184939Z
SUMMARY:Ďábel nosí Pradu 2
DTSTART;TZID=Europe/Prague:20260430T180000
DTEND;TZID=Europe/Prague:20260430T200000
LOCATION:Kino Aero
END:VEVENT
END:VCALENDAR
BEGIN:VCALENDAR
PRODID:-//eluceo/ical//2.0/EN
VERSION:2.0
CALSCALE:GREGORIAN
BEGIN:VEVENT
UID:579f33e83a1f0e7ac0f0649f41843348
DTSTAMP:20260423T184939Z
SUMMARY:Ďábel nosí Pradu 2
DTSTART;TZID=Europe/Prague:20260430T180000
DTEND;TZID=Europe/Prague:20260430T200000
LOCATION:Kino Aero
END:VEVENT
END:VCALENDAR
