BEGIN:VCALENDAR
PRODID:-//eluceo/ical//2.0/EN
VERSION:2.0
CALSCALE:GREGORIAN
BEGIN:VEVENT
UID:2b49a06ec2756d02db72a45c44a95152
DTSTAMP:20260424T184504Z
SUMMARY:Legendy Alysie
DTSTART;TZID=Europe/Prague:20260503T150000
DTEND;TZID=Europe/Prague:20260503T163300
LOCATION:Kino Aero
END:VEVENT
END:VCALENDAR
BEGIN:VCALENDAR
PRODID:-//eluceo/ical//2.0/EN
VERSION:2.0
CALSCALE:GREGORIAN
BEGIN:VEVENT
UID:fae6fff39b747fb15ad24ecaf0fce325
DTSTAMP:20260424T184504Z
SUMMARY:Legendy Alysie
DTSTART;TZID=Europe/Prague:20260503T150000
DTEND;TZID=Europe/Prague:20260503T163300
LOCATION:Kino Aero
END:VEVENT
END:VCALENDAR
